BEGIN:VCALENDAR
VERSION:2.0
PRODID:-//LCU - ECPv6.15.20//NONSGML v1.0//EN
CALSCALE:GREGORIAN
METHOD:PUBLISH
X-ORIGINAL-URL:https://lcus.edu
X-WR-CALDESC:Events for LCU
REFRESH-INTERVAL;VALUE=DURATION:PT1H
X-Robots-Tag:noindex
X-PUBLISHED-TTL:PT1H
BEGIN:VTIMEZONE
TZID:America/New_York
BEGIN:DAYLIGHT
TZOFFSETFROM:-0500
TZOFFSETTO:-0400
TZNAME:EDT
DTSTART:20250309T070000
END:DAYLIGHT
BEGIN:STANDARD
TZOFFSETFROM:-0400
TZOFFSETTO:-0500
TZNAME:EST
DTSTART:20251102T060000
END:STANDARD
BEGIN:DAYLIGHT
TZOFFSETFROM:-0500
TZOFFSETTO:-0400
TZNAME:EDT
DTSTART:20260308T070000
END:DAYLIGHT
BEGIN:STANDARD
TZOFFSETFROM:-0400
TZOFFSETTO:-0500
TZNAME:EST
DTSTART:20261101T060000
END:STANDARD
BEGIN:DAYLIGHT
TZOFFSETFROM:-0500
TZOFFSETTO:-0400
TZNAME:EDT
DTSTART:20270314T070000
END:DAYLIGHT
BEGIN:STANDARD
TZOFFSETFROM:-0400
TZOFFSETTO:-0500
TZNAME:EST
DTSTART:20271107T060000
END:STANDARD
END:VTIMEZONE
BEGIN:VEVENT
DTSTART;TZID=America/New_York:20260420T180000
DTEND;TZID=America/New_York:20260511T220000
DTSTAMP:20260419T122154
CREATED:20250507T135315Z
LAST-MODIFIED:20260122T162011Z
UID:10000366-1776708000-1778536800@lcus.edu
SUMMARY:Authority of the Believer
DESCRIPTION:Unlock the power of your God-given authority as a believer. This transformative course helps you understand and embrace the spiritual authority granted by God\, equipping you to walk in confidence and victory in your daily life. Learn biblical principles to exercise your faith with boldness and live out your divine calling.
URL:https://lcus.edu/event/authority-of-the-believer-2/2026-04-20/
LOCATION:Life Christian University\, 9051 Florida Mining Blvd.\, Suite 104\, Tampa\, FL\, 33634\, United States
CATEGORIES:Classes
ATTACH;FMTTYPE=image/jpeg:https://lcus.edu/wp-content/uploads/lcu_20th_anniversary_logo_375x375.jpg
END:VEVENT
BEGIN:VEVENT
DTSTART;TZID=America/New_York:20260427T180000
DTEND;TZID=America/New_York:20260518T220000
DTSTAMP:20260419T122154
CREATED:20250507T135315Z
LAST-MODIFIED:20260122T162011Z
UID:10000367-1777312800-1779141600@lcus.edu
SUMMARY:Authority of the Believer
DESCRIPTION:Unlock the power of your God-given authority as a believer. This transformative course helps you understand and embrace the spiritual authority granted by God\, equipping you to walk in confidence and victory in your daily life. Learn biblical principles to exercise your faith with boldness and live out your divine calling.
URL:https://lcus.edu/event/authority-of-the-believer-2/2026-04-27/
LOCATION:Life Christian University\, 9051 Florida Mining Blvd.\, Suite 104\, Tampa\, FL\, 33634\, United States
CATEGORIES:Classes
ATTACH;FMTTYPE=image/jpeg:https://lcus.edu/wp-content/uploads/lcu_20th_anniversary_logo_375x375.jpg
END:VEVENT
BEGIN:VEVENT
DTSTART;TZID=America/New_York:20260504T180000
DTEND;TZID=America/New_York:20260525T220000
DTSTAMP:20260419T122154
CREATED:20250507T135315Z
LAST-MODIFIED:20260122T162011Z
UID:10000368-1777917600-1779746400@lcus.edu
SUMMARY:Authority of the Believer
DESCRIPTION:Unlock the power of your God-given authority as a believer. This transformative course helps you understand and embrace the spiritual authority granted by God\, equipping you to walk in confidence and victory in your daily life. Learn biblical principles to exercise your faith with boldness and live out your divine calling.
URL:https://lcus.edu/event/authority-of-the-believer-2/2026-05-04/
LOCATION:Life Christian University\, 9051 Florida Mining Blvd.\, Suite 104\, Tampa\, FL\, 33634\, United States
CATEGORIES:Classes
ATTACH;FMTTYPE=image/jpeg:https://lcus.edu/wp-content/uploads/lcu_20th_anniversary_logo_375x375.jpg
END:VEVENT
END:VCALENDAR